BEGIN:VCALENDAR
VERSION:2.0
PRODID:-//Oyhut Bay Seaside Resort - ECPv6.15.20//NONSGML v1.0//EN
CALSCALE:GREGORIAN
METHOD:PUBLISH
X-WR-CALNAME:Oyhut Bay Seaside Resort
X-ORIGINAL-URL:https://www.oyhutbay.com
X-WR-CALDESC:Events for Oyhut Bay Seaside Resort
REFRESH-INTERVAL;VALUE=DURATION:PT1H
X-Robots-Tag:noindex
X-PUBLISHED-TTL:PT1H
BEGIN:VTIMEZONE
TZID:UTC
BEGIN:STANDARD
TZOFFSETFROM:+0000
TZOFFSETTO:+0000
TZNAME:UTC
DTSTART:20240101T000000
END:STANDARD
END:VTIMEZONE
BEGIN:VEVENT
DTSTART;TZID=UTC:20251213T000000
DTEND;TZID=UTC:20251213T235959
DTSTAMP:20260420T091208
CREATED:20251116T015857Z
LAST-MODIFIED:20251116T015857Z
UID:10000916-1765584000-1765670399@www.oyhutbay.com
SUMMARY:Santa Claus is Coming to Oyhut Bay
DESCRIPTION:Santa Claus is coming to Oyhut Bay! He will be here for photos with kids of all ages and pets too. Arrival is set for 6pm\, with photos shortly after. We will also have a special BRUNCH with SANTA available Sunday December 14th. Santa will be at brunch from 11-12:30pm. Make your reservations now!
URL:https://www.oyhutbay.com/event/santa-claus-is-coming-to-oyhut-bay-2/
LOCATION:Oyhut Bay Seaside Resort\, 400 Salmonberry Lane SW\, Ocean Shores\, Washington\, 98569
ATTACH;FMTTYPE=image/png:https://www.oyhutbay.com/wp-content/uploads/2025/11/image0-2-scaled-1.png
END:VEVENT
BEGIN:VEVENT
DTSTART;TZID=UTC:20251213T180000
DTEND;TZID=UTC:20251213T210000
DTSTAMP:20260420T091208
CREATED:20251003T221131Z
LAST-MODIFIED:20251003T221131Z
UID:10000346-1765648800-1765659600@www.oyhutbay.com
SUMMARY:Shaun Beebe Live at Oyhut Bay Grill - Every Saturday
DESCRIPTION:Shaun Beebe Live at Oyhut Bay Grill – Every Saturday from 6–9 PM \n\n\n\nSaturday nights just got better at Oyhut Bay Seaside Resort. Join us upstairs in The Loft at Oyhut Bay Grill for Shaun Beebe playing live\, happening every Saturday from 6–9 PM. \n\n\n\nShaun Beebe brings an inviting mix of acoustic classics\, soulful vocals\, and a laid-back energy that sets the tone for a perfect weekend evening. Whether you’re enjoying a date night\, meeting friends\, or just looking to relax with live music\, The Loft is the place to be. \n\n\n\nLocated above the Oyhut Bay Grill\, The Loft offers an intimate atmosphere\, full bar service\, and elevated views of the plaza. It’s the ideal setting to unwind with delicious food\, craft cocktails\, and smooth acoustic sounds. \n\n\n\nPlanning your visit? While reservations are not required\, we always recommend arriving early to grab a good seat. You can also view the full menu here ahead of time. You can make your reservation here.  \n\n\n\nMake it a weekly tradition—Shaun Beebe at Oyhut Bay Grill\, every Saturday in The Loft from 6–9 PM. Great food\, great drinks\, and great music in Ocean Shores.
URL:https://www.oyhutbay.com/event/shaun-beebe-live-at-oyhut-bay-grill-every-saturday-2/2025-12-13/
LOCATION:Oyhut Bay Grill\, 404 Salmonberry Lane SW\, Ocean Shores\, Washington\, 98569
ATTACH;FMTTYPE=image/jpeg:https://www.oyhutbay.com/wp-content/uploads/2025/08/Image-14-2.jpeg
END:VEVENT
END:VCALENDAR