BEGIN:VCALENDAR
VERSION:2.0
PRODID:-//Oyhut Bay Seaside Resort - ECPv6.15.20//NONSGML v1.0//EN
CALSCALE:GREGORIAN
METHOD:PUBLISH
X-WR-CALNAME:Oyhut Bay Seaside Resort
X-ORIGINAL-URL:https://www.oyhutbay.com
X-WR-CALDESC:Events for Oyhut Bay Seaside Resort
REFRESH-INTERVAL;VALUE=DURATION:PT1H
X-Robots-Tag:noindex
X-PUBLISHED-TTL:PT1H
BEGIN:VTIMEZONE
TZID:UTC
BEGIN:STANDARD
TZOFFSETFROM:+0000
TZOFFSETTO:+0000
TZNAME:UTC
DTSTART:20240101T000000
END:STANDARD
END:VTIMEZONE
BEGIN:VEVENT
DTSTART;TZID=UTC:20251215T180000
DTEND;TZID=UTC:20251215T200000
DTSTAMP:20260420T091152
CREATED:20251114T225700Z
LAST-MODIFIED:20251114T225700Z
UID:10000914-1765821600-1765828800@www.oyhutbay.com
SUMMARY:Door Mat Painting Party
DESCRIPTION:
URL:https://www.oyhutbay.com/event/door-mat-painting-party/
LOCATION:Oyhut Bay Grill\, 404 Salmonberry Ln SW\, Ocean Shores\, WA\, 98569\, United States
END:VEVENT
END:VCALENDAR