BEGIN:VCALENDAR
VERSION:2.0
PRODID:-//Oyhut Bay Seaside Resort - ECPv6.15.20//NONSGML v1.0//EN
CALSCALE:GREGORIAN
METHOD:PUBLISH
X-WR-CALNAME:Oyhut Bay Seaside Resort
X-ORIGINAL-URL:https://www.oyhutbay.com
X-WR-CALDESC:Events for Oyhut Bay Seaside Resort
REFRESH-INTERVAL;VALUE=DURATION:PT1H
X-Robots-Tag:noindex
X-PUBLISHED-TTL:PT1H
BEGIN:VTIMEZONE
TZID:UTC
BEGIN:STANDARD
TZOFFSETFROM:+0000
TZOFFSETTO:+0000
TZNAME:UTC
DTSTART:20240101T000000
END:STANDARD
END:VTIMEZONE
BEGIN:VEVENT
DTSTART;TZID=UTC:20251231T190000
DTEND;TZID=UTC:20260101T010000
DTSTAMP:20260422T081552
CREATED:20251205T032700Z
LAST-MODIFIED:20251205T032700Z
UID:10000918-1767207600-1767229200@www.oyhutbay.com
SUMMARY:New Years Eve Casino Night and Dinner Party
DESCRIPTION:Starting at 7pm\, enjoy our NYE Dinner Party then dance & gamble the night away with $10\,000 in Oyhut Bucks.  \n\n\n\nThe evening will start at 7pm\, enjoy dinner catered by Oyhut Bay Grill. \n\n\n\nChoice of Entree: Prime Rib | Salmon | Chicken served with Garlic Mashed Potatoes and seasonal vegetable. Dessert is New York Cheesecake \n\n\n\nWe are happy to welcome back our friends from Treveri Cellars\, who will be pouring their sparkling wines all night Our bar will also be open for our handcrafted cocktails. \n\n\n\nThe DJ starts at 9pm and so does the gambling fun. Everyone will start with $10\,000 in Oyhut Bucks to play black jack\, roulette and craps! Loose it all or win big\, it’s all just for fun. \n\n\n\nOyhut Bay Seaside Resort is the place to be to ring in 2026! Make a long weekend out of it\, book your favorite cottage and make the first couple days of January about resetting and recharging. \n\n\n\n*Tickets required for dinner; Open to the public at 9 PM for gaming and dancing* 
URL:https://www.oyhutbay.com/event/new-years-eve-casino-night-and-dinner-party/
LOCATION:Oyhut Bay Event Center\, 153 Hydrangea Circle SW\, Ocean Shores\, Washington\, 98569
ATTACH;FMTTYPE=image/jpeg:https://www.oyhutbay.com/wp-content/uploads/2025/12/image0-1.jpeg
END:VEVENT
END:VCALENDAR